BEGIN:VCALENDAR
VERSION:2.0
PRODID:-//www.gelterkinden.ch//NONSGML kigkonsult.se iCalcreator 2.22//
CALSCALE:GREGORIAN
METHOD:PUBLISH
X-WR-TIMEZONE:Europe/Berlin
BEGIN:VEVENT
UID:20260424T202052CEST-1455RW3oug@www.gelterkinden.ch
DTSTAMP:20260424T182052Z
DESCRIPTION:Klicken Sie auf den folgenden Link\, um weitere Informationen z
 ur Veranstaltung zu erhalten:\nhttp://www.gelterkinden.ch/de/veranstaltung
 en/detail/detail.php?i=1599
DTSTART:20260620T110000
DTEND:20260620T173000
LOCATION:Katholischer Pfarreisaal 
SUMMARY:Eidgenössischer Flüchtlingstag
END:VEVENT
END:VCALENDAR
