BEGIN:VCALENDAR
VERSION:2.0
PRODID:-//www.gelterkinden.ch//NONSGML kigkonsult.se iCalcreator 2.22//
CALSCALE:GREGORIAN
METHOD:PUBLISH
X-WR-TIMEZONE:Europe/Berlin
BEGIN:VEVENT
UID:20260421T121727CEST-3727VB9LKN@www.gelterkinden.ch
DTSTAMP:20260421T101727Z
DESCRIPTION:Klicken Sie auf den folgenden Link\, um weitere Informationen z
 ur Veranstaltung zu erhalten:\nhttp://www.gelterkinden.ch/de/veranstaltung
 en/detail/detail.php?i=1598
DTSTART:20260527T140000
DTEND:20260527T150000
LOCATION:Gemeinde- und Schulbibliothek
SUMMARY: Schweizer Vorlesetag
END:VEVENT
END:VCALENDAR
