BEGIN:VCALENDAR
VERSION:2.0
PRODID:-//www.gelterkinden.ch//NONSGML kigkonsult.se iCalcreator 2.22//
CALSCALE:GREGORIAN
METHOD:PUBLISH
X-WR-TIMEZONE:Europe/Berlin
BEGIN:VEVENT
UID:20260424T202218CEST-9985LuKkkt@www.gelterkinden.ch
DTSTAMP:20260424T182218Z
DESCRIPTION:Klicken Sie auf den folgenden Link\, um weitere Informationen z
 ur Veranstaltung zu erhalten:\nhttp://www.gelterkinden.ch/de/veranstaltung
 en/detail/detail.php?i=1590
DTSTART:20260613T090000
DTEND:20260613T120000
LOCATION:Allee
SUMMARY:30. Bring-Hol-Tag - Verschenken statt wegwerfen
END:VEVENT
END:VCALENDAR
