BEGIN:VCALENDAR
VERSION:2.0
PRODID:-//www.gelterkinden.ch//NONSGML kigkonsult.se iCalcreator 2.22//
CALSCALE:GREGORIAN
METHOD:PUBLISH
X-WR-TIMEZONE:Europe/Berlin
BEGIN:VEVENT
UID:20260420T165238CEST-2134LE0ZvG@www.gelterkinden.ch
DTSTAMP:20260420T145238Z
DESCRIPTION:Klicken Sie auf den folgenden Link\, um weitere Informationen z
 ur Veranstaltung zu erhalten:\nhttp://www.gelterkinden.ch/de/veranstaltung
 en/detail/detail.php?i=1597
DTSTART:20260420T000000
DTEND:20260801T000000
LOCATION:Gemeinde- und Schulbibliothek
SUMMARY:Bilderausstellung EVELINE HERI 'Kunst aus Draht - mit Liebe geformt
 ' 
END:VEVENT
END:VCALENDAR
