BEGIN:VCALENDAR
VERSION:2.0
PRODID:-//www.gelterkinden.ch//NONSGML kigkonsult.se iCalcreator 2.22//
CALSCALE:GREGORIAN
METHOD:PUBLISH
X-WR-TIMEZONE:Europe/Berlin
BEGIN:VEVENT
UID:20260421T182815CEST-9421ofx7bm@www.gelterkinden.ch
DTSTAMP:20260421T162815Z
DESCRIPTION:Klicken Sie auf den folgenden Link\, um weitere Informationen z
 ur Veranstaltung zu erhalten:\nhttp://www.gelterkinden.ch/de/veranstaltung
 en/detail/detail.php?i=1592
DTSTART:20260423T190000
DTEND:20260423T210000
LOCATION:Alters- und Pflegeheim zum Eibach
SUMMARY:Aeschbacher z'mittsdrin
END:VEVENT
END:VCALENDAR
