BEGIN:VCALENDAR
VERSION:2.0
PRODID:-//www.gelterkinden.ch//NONSGML kigkonsult.se iCalcreator 2.22//
CALSCALE:GREGORIAN
METHOD:PUBLISH
X-WR-TIMEZONE:Europe/Berlin
BEGIN:VEVENT
UID:20260423T161845CEST-6715ErExzz@www.gelterkinden.ch
DTSTAMP:20260423T141845Z
DESCRIPTION:Klicken Sie auf den folgenden Link\, um weitere Informationen z
 ur Veranstaltung zu erhalten:\nhttp://www.gelterkinden.ch/de/abfallwirtsch
 aft/abfallkalender/detail/detail.php?i=
DTSTART;VALUE=DATE:20260912
LOCATION:Zeughausareal\, Rünenbergerstrasse 37
SUMMARY:Sonderabfälle (Gifte\, Chemikalien\, Farben\, Lösungsmittel) 
END:VEVENT
END:VCALENDAR
